Workbook

Sheet Sumy_na 30.09.2018
D1: Załącznik nr 6
B3: Mienie od ognia i innych zdarzeń losowych | C3: wartość ksiegowa brutto | D3: Suma ubezpieczenia
B4: budynki i budowle | C4: ='budynki i budowle'!E39 -> 60549821 | D4: =C4 -> 60549821
B5: maszyny i urządzenia, wyposażenie i środki transportu (*) | C5: ='maszyny i urzadzenia'!E30+'srodki transportu'!E15 -> 29770836 | D5: =C5 -> 29770836
B6: gotówka | C6: 10000 | D6: 10000
B7: nakłady inwestycyjne | D7: 10000
B8: mienie osób trzecich | D8: 200000
B9: niskocenne składniki majątku | C9: =niskocenne!E25 -> 384101.68 | D9: =C9 -> 384101.68
B10: mienie pracownicze | D10: 60000
B11: środki obrotowe | C11: 100000 | D11: =C11 -> 100000
C12: =SUM(C4:C11) -> 90814758 | D12: =SUM(D4:D11) -> 91084758
B14: Sprzęt elektroniczny od wszystkich ryzyk | C14: wartość ksiegowa brutto | D14: =D3 -> Suma ubezpieczenia
B15: elektroniczny sprzęt stacjonarny | C15: =elektroniczny!E37 -> 251384.25 | D15: =C15 -> 251384.25
B16: przenośny sprzęt elektroniczny | C16: =elektroniczny!E80 -> 61261.54 | D16: =C16 -> 61261.54
B17: monitoring wizyjny | C17: =elektroniczny!E42 -> 332455.91 | D17: =C17 -> 332455.91
B18: koszty odtworzenia danych | D18: 30000
B19: nośniki danych | D19: 10000
B20: zwiększone koszty działalności [klauzura] | D20: 20000
C21: =SUM(C15:C20) -> 645101.7 | D21: =SUM(D15:D20) -> 705101.7
B23: Limity od ryzyka kradzieży | C23: wartość ksiegowa brutto | D23: =D3 -> Suma ubezpieczenia
B24: maszyny, urządzenia, wyposażenie | D24: 200000
B25: środki obrotowe | D25: 30000
B26: mienie pracownicze | D26: 10000
B27: gotówka od kradzieży z włamaniem | D27: 10000
B28: gotówka od rabunku w lokalu | D28: 10000
B29: gotówka od rabunku w transporcie | D29: 10000
B30: kradzież zwykła | D30: 20000
B31: naprawa zabezpieczeń | D31: 5000
B32: szyby od stłuczenia | D32: 10000
C33: =SUM(C24:C32) -> 0 | D33: =SUM(D24:D32) -> 305000
B35: Ubezpieczenie maszyn od uszkodzeń | C35: wartość ksiegowa brutto | D35: =D3 -> Suma ubezpieczenia
B36: kocioł grzewczy | C36: ='maszyny i urzadzenia'!E3 -> 249652.66 | D36: =C36 -> 249652.66
B37: linia technologiczna sortowni odpadów + separatory | C37: ='maszyny i urzadzenia'!E6 -> 13422474 | D37: =C37 -> 13422474
B38: kontener stacji sprężarek wraz z wyposażeniem | C38: ='maszyny i urzadzenia'!E5 -> 1009655.8 | D38: =C38 -> 1009655.8
B39: linia produkcji paliwa alternatywnego | C39: ='maszyny i urzadzenia'!E7 -> 987931.36 | D39: =C39 -> 987931.36
B40: pompownia ppoż. | C40: 309211.22 | D40: =C40 -> 309211.22
B41: zwijarki z membranami | C41: ='maszyny i urzadzenia'!E27 -> 814188.55 | D41: =C41 -> 814188.55
C42: =SUM(C36:C41) -> 16793114 | D42: =SUM(D36:D41) -> 16793114
B44: Ubezpieczenie maszyn i urządzeń budowlanych | C44: wartość ksiegowa brutto | D44: Suma ubezpieczenia
B45: Manitou ładowarka kołowa teleskopowa MLT 845 120+ | C45: 441830.13 | D45: =C45 -> 441830.13
B46: Manitou ładowarka kołowa teleskopowa MLT 845 120 | C46: 402383 | D46: =C46 -> 402383
B47: Hitachi ładowarka kołowa czołowa ZW220 | C47: 721053.09 | D47: =C47 -> 721053.09
B48: Hitachi ładowarka kołowa czołowa ZW220 | C48: 721053.09 | D48: =C48 -> 721053.09
B49: Gx320 Kompaktor | C49: 1355908.7 | D49: =C49 -> 1355908.7
B50: PR724XL Spycharka gąsięnnicowa | C50: 881135.09 | D50: =C50 -> 881135.09
B51: 3CX Koparko-ładowarka + łyżka do skarpowania | C51: 280980.58 | D51: =C51 -> 280980.58
B52: przerzucarka bramowa 17.50 | C52: 912148.12 | D52: =C52 -> 912148.12
B53: mobilne sito obrotowe do kompostu DOPPSTADT | C53: 724651.01 | D53: =C53 -> 724651.01
B54: rozdrabniarka do odpadów wielkogabarytowych DOPPSTADT | C54: 961809.52 | D54: =C54 -> 961809.52
B55: kruszarka szczękowa CITYEQUIP | C55: 708435.04 | D55: =C55 -> 708435.04
B56: Hyster H2.0FT wózek widłowy spalinowy + 4 funkcje hydrauliczne + chwytak | C56: 151974.73 | D56: =C56 -> 151974.73
... B61: GENIE podnośnik nożycowy | C61: 32506.41 | D61: =C61 -> 32506.41
C62: =SUM(C45:C61) -> 9482990.8 | D62: =SUM(D45:D61) -> 9482990.8

Sheet budynki i budowle
B1: BUDYNKI I BUDOWLE
B2: LP | C2: Nazwa - budynki i budowle | D2: Nr KŚT | E2: Wartość księgowa BRUTTO środka trwałego na dzień 30.09.2018 | F2: Data przyjęcia
B3: 1 | C3: Hala sortowni obiekt 4 FS | D3: 101 | E3: =5930808.41+92269.36+8301.9+9381.3 -> 6040761 | F3: 41091
B4: 2 | C4: Magazyn odpadów niebezpiecznych - 12 FS | D4: 101 | E4: 316844.22 | F4: 41091
B5: 3 | C5: Warsztat rozbiórki - obiekt 20a FS | D5: 101 | E5: 544341.24 | F5: 41091
B6: 4 | C6: Hala garażowa z warsztatem FS | D6: 101 | E6: 897913.91 | F6: 41091
B7: 5 | C7: Budynek administarcyjny FS | D7: 105 | E7: =1023258.35-922.5+35748+32883.98-35748 -> 1055219.8 | F7: 41091
B8: 6 | C8: Budynek socjalny - obiekt 4a FS | D8: 109 | E8: =724394.3+772593.85+11217.3 -> 1508205.4 | F8: 41091
B9: 7 | C9: Budynek socjalny dla prac. fizycznych obiekt 13 FS | D9: 109 | E9: 593450.27 | F9: 41091
B10: 8 | C10: Portiernia - obiekt 1 FS | D10: 109 | E10: 218208.67 | F10: 41091
B11: 9 | C11: Wiaty dojrzewania i magazynowania kompostu FS | D11: 101 | E11: 9089827.2 | F11: 41091
B12: 10 | C12: Wiata przyjęcia odpadów organicznych - obiekt 5 FS | D12: 101 | E12: 2169688.5 | F12: 41091
B13: 11 | C13: Wiata na odpady z azbestu - obiekt 11 FS | D13: 101 | E13: 620496.48 | F13: 41091
B14: 12 | C14: Wiata - obiekt 20 d FS | D14: 101 | E14: 205372.83 | F14: 41091
B15: 13 | C15: Pompownia koncentratun - obiekt 18a FS | D15: 210 | E15: 290643.03 | F15: 41091
B16: 14 | C16: Pompownia poboru ścieków - obiekt 23 FS | D16: 210 | E16: 80704.8 | F16: 41091
B17: 15 | C17: Zasilanie energetyczne linią napowietrzną FS | D17: 211 | E17: 222275.7 | F17: 41091
B18: 16 | C18: Sieć energetyczna FS | D18: 211 | E18: =727522.94+401662.23 -> 1129185.2 | F18: 41091
B19: 17 | C19: Sieć teletechniczna FS | D19: 211 | E19: 107805.95 | F19: 41091
B20: 18 | C20: Oczyszcz. Zakład. w techn. odw. osmozy-obiekt 18FS | D20: 211 | E20: =1886630.19+281163.57 -> 2167793.8 | F20: 41091
B21: 19 | C21: Boksy dla sortowni - obiekt 10/1 FS | D21: 291 | E21: 561429.77 | F21: 41091
B22: 20 | C22: Boksy dla sortowni - obiekt 10/2 FS | D22: 291 | E22: 181884.63 | F22: 41091
B23: 21 | C23: Kwat. na odpady do mineraliz. nr I wraz z rowem FS | D23: 291 | E23: =8213434.72+24000 -> 8237434.7 | F23: 41091
B24: 22 | C24: Kwatera na odpady do mineral. II - balastu FS | D24: 291 | E24: 7142657.7 | F24: 41091
B25: 23 | C25: Studnie odgazowujące FS | D25: 291 | E25: =165382.24+170180.44 -> 335562.68 | F25: 41091
B26: 24 | C26: Przepompownia wód odciekowych - obiekt 28 FS | D26: 291 | E26: 63711.04 | F26: 41091
B27: 25 | C27: Ogrodzenie terenu zakładu FS | D27: 291 | E27: 622522.53 | F27: 41091
B28: 26 | C28: Kontener socjalny - obiekt 20 c FS | D28: 291 | E28: 19856.88 | F28: 41091
B29: 27 | C29: Zbiornik buforowy wód odciekowych - obiekt 17 FS | D29: 291 | E29: 119853.01 | F29: 41091
B30: 28 | C30: Zbiornik wód deszczowych FS | D30: 291 | E30: 195824.79 | F30: 41091
B31: 29 | C31: Zbiornik magazyn wód oczyszczonych - obiekt 19 FS | D31: 291 | E31: =182076.74+98430.18+32132.98 -> 312639.9 | F31: 41091
B32: 30 | C32: Instalacja biologicznego przetwarzania odpadów FS | D32: 291 | E32: 7572978.6 | F32: 42338
B33: 31 | C33: Plac magazynowo-manewrowy przy instal stabiliz. FS | D33: 220 | E33: 369790.68 | F33: 42338
B34: 32 | C34: Boks magazynowy FS | D34: 291 | E34: 107358.58 | F34: 42338
B35: 33 | C35: Oczyszczalnia ścieków min 120m3/d FS | D35: 211 | E35: =5448556.52+23003.3 -> 5471559.8 | F35: 42338
B36: 34 | C36: Zbiornik na ścieki surowe 1000m3 FS | D36: 291 | E36: 768896.28 | F36: 42338
B37: 35 | C37: Zbiornik na ścieki oczyszczone FS | D37: 291 | E37: 401662.23 | F37: 42338
B38: 36 | C38: Zbiornik i studnie chłonne dla ścieków deszczow.FS | D38: 291 | E38: 805459.03 | F38: 42338
E39: =SUM(E3:E38) -> 60549821

Sheet maszyny i urzadzenia
B1: MASZYNY I URZĄDZENIA
B2: LP | C2: Nazwa - maszyny i urządzenia | D2: Nr KŚT | E2: ='budynki i budowle'!E2 -> Wartość księgowa BRUTTO środka trwałego na dzień 30.09.2018 | F2: Data przyjęcia
B3: 1 | C3: Kocioł grzewczy w obiekcie nr 13 FS | D3: 310 | E3: 249652.66 | F3: 41091
B4: 2 | C4: Stacja paliw FS | D4: 449 | E4: =222826.33+15778.86 -> 238605.19 | F4: 41091
B5: 3 | C5: Kontener stacji sprężarek wraz z wyposażeniem FS | D5: 599 | E5: 1009655.8 | F5: 41091
B6: 4 | C6: Sortownia urządzenie FS (linia technologiczna sortowni odpadów + separatory) | D6: 599 | E6: =7318594.35+5865305.42+238574.64 -> 13422474 | F6: 41091
B7: 5 | C7: Linia produkcji paliwa alternatywnego FS | D7: 599 | E7: 987931.36 | F7: 41091
B8: 6 | C8: Kruszarka do gruzu FS | D8: 529 | E8: 708435.04 | F8: 41088
B9: 7 | C9: Ładowarka teleskopowa MANITOU 95 FS | D9: 580 | E9: 402383 | F9: 41051
B10: 8 | C10: Ładowarka teleskopowa MANITOU 96 FS | D10: 580 | E10: 441830.13 | F10: 41051
B11: 9 | C11: Ładowarka czołowa HITACHI 11 FS | D11: 580 | E11: 721053.09 | F11: 41051
B12: 10 | C12: Ładowarka czołowa HITACHI 18 FS | D12: 580 | E12: 721053.09 | F12: 41051
B13: 11 | C13: Kompaktor FS | D13: 599 | E13: 1355908.7 | F13: 41395
B14: 12 | C14: Przerzucarka bramowa do kompostu FS | D14: 599 | E14: 912148.12 | F14: 41080
B15: 13 | C15: Mobilne sito obrotowe FS | D15: 599 | E15: 724651.01 | F15: 41089
B16: 14 | C16: Spycharka gąsienicowa FS | D16: 580 | E16: 881135.09 | F16: 41128
B17: 15 | C17: Koparko - ładowarka FS | D17: 580 | E17: 280980.58 | F17: 41141
B18: 16 | C18: Ładowarka teleskopowa Libherr FS | D18: 580 | E18: 545577.62 | F18: 42109
B19: 17 | C19: Ładowarka kołowa Liebherr FS | D19: 580 | E19: 271016.2 | F19: 42109
B20: 18 | C20: Stacja transformatorawa - obiekt 26 FS | D20: 613 | E20: =703738.97+91965.79 -> 795704.76 | F20: 41091
B21: 19 | C21: Waga samochodowa - obiekt 2 a FS | D21: 660 | E21: 162488.11 | F21: 41091
B22: 20 | C22: Waga samochodowa - obiekt 2 b FS | D22: 660 | E22: 162428.03 | F22: 41091
B23: 21 | C23: Myjnia kół samochodowych - obiekt 3 FS | D23: 669 | E23: 369766.11 | F23: 41091
B24: 22 | C24: Rozdrabniacz wielkogabarytów FS | D24: 659 | E24: 961809.52 | F24: 41093
B25: 23 | C25: Pompa powodziowa | D25: 669 | E25: 62365 | F25: 41334
B26: 24 | C26: Pompownia ppoż. | D26: 663 | E26: 309211.22 | F26: 41668
B27: 25 | C27: Zwijarki z membranami do instalacji biologicz FS | D27: 669 | E27: 814188.55 | F27: 42338
B28: 26 | C28: Podnośnik nożycowy GENIE | D28: 641 | E28: 32506.41 | F28: 42703
B29: 27 | C29: Instalacja przeciwpożarowa w hali sortowni | D29: 663 | E29: 101500 | F29: 43098
E30: =SUM(E3:E29) -> 27646459

Sheet srodki transportu
B3: ŚRODKI TRANSPORTU
B4: LP | C4: Nazwa - środki transportu | D4: Nr KŚT | E4: ='budynki i budowle'!E2 -> Wartość księgowa BRUTTO środka trwałego na dzień 30.09.2018 | F4: Data przyjęcia
B5: 1 | C5: Samochód hakowiec MAN 8x6 GST 13072 FS | D5: 742 | E5: 596728.42 | F5: 41051
B6: 2 | C6: Samochód hakowiec MAN 6X4 GST 13074 FS | D6: 742 | E6: 477845.12 | F6: 41051
B7: 3 | C7: Ciągnik rolniczy GST 28CN z oprzyrządowaniem FS | D7: 746 | E7: 340130.23 | F7: 41131
B8: 4 | C8: Przyczepa gniotpol GST 12NU FS | D8: 748 | E8: 81225.17 | F8: 41051
B9: 5 | C9: Wózek widłowy HYSTER J2.0XNT elektryczny FS | D9: 762 | E9: 243970.23 | F9: 41051
B10: 6 | C10: Wózek widłowy HYSTER H2.OFT spalinowy FS | D10: 763 | E10: =124855.85+4764.54+22354.34 -> 151974.73 | F10: 41051
B11: 7 | C11: Kosiarka z oprzyrządowaniem | D11: 746 | E11: 10417.62 | F11: 41129
B12: 8 | C12: Przyczepa asenizacyjna itp. FS | D12: 748 | E12: 45607.41 | F12: 41131
B13: 9 | C13: Przyczepa samowyładowcza FS | D13: 748 | E13: 49919.89 | F13: 41131
B14: 10 | C14: Wózek widłowy Hyster H2.0FT FS | D14: 763 | E14: 126558.25 | F14: 42109
E15: =SUM(E5:E14) -> 2124377.1

Sheet niskocenne
B1: NISKOCENNE
B2: LP | C2: Nazwa - niskocenne | D2: Nr KŚT | E2: ='budynki i budowle'!E2 -> Wartość księgowa BRUTTO środka trwałego na dzień 30.09.2018 | F2: Data przyjęcia
B3: 1 | C3: Spektrofotometr FS | D3: 801 | E3: 21615.17 | F3: 42338
B4: 2 | C4: Mineralizator (termoreaktor) FS | D4: 801 | E4: 5695.57 | F4: 42338
B5: 3 | C5: Wagosuszarka FS | D5: 801 | E5: 3896.13 | F5: 42338
B6: 4 | C6: Młyn nożowy FS | D6: 801 | E6: 28902.46 | F6: 42338
B7: 5 | C7: Zestaw do oznaczania AT4 FS | D7: 801 | E7: 30816.67 | F7: 42338
B8: 6 | C8: Zestaw do sączenia FS | D8: 801 | E8: 6453 | F8: 42338
B9: 7 | C9: Chłodziarka laboratoryjna FS | D9: 801 | E9: 7298.78 | F9: 42338
B10: 8 | C10: Suszarka laboratoryjna FS | D10: 801 | E10: 7255.16 | F10: 42338
B11: 9 | C11: Wieloparametrowy miernik PH przetwornoci i tlenuFS | D11: 801 | E11: 10155.17 | F11: 42338
B12: 10 | C12: Wieloparametrowy miernik biogazu FS | D12: 801 | E12: 51535.56 | F12: 42338
B13: 11 | C13: Stół laboratoryjny FS | D13: 801 | E13: 6464.85 | F13: 42338
B14: 12 | C14: Stół laboratyryjny FS | D14: 801 | E14: 6464.85 | F14: 42338
... B24: 22 | C24: Szlabany automatyczne | D24: 808 | E24: 13290.41 | F24: 42734
E25: =SUM(E3:E24) -> 384101.68

Sheet elektroniczny
B3: SPRZĘT ELEKTRONICZNY
B4: LP | C4: Nazwa - stacjonarny sprzęt elektroniczny | D4: Nr KŚT | E4: ='budynki i budowle'!E2 -> Wartość księgowa BRUTTO środka trwałego na dzień 30.09.2018 | F4: Data przyjęcia
B5: 1 | C5: Sieć LAN | D5: 211 | E5: 139307.18 | F5: 41091
B6: 2 | C6: Projektor wraz z komputerem | D6: 491 | E6: 8261.36 | F6: 41925
B7: 3 | C7: System komputerowy (zestaw) FS | D7: 491 | E7: 22952.13 | F7: 42338
B8: 4 | C8: System kontroli dostępu RCP | D8: 491 | E8: 7413.32 | F8: 43007
B9: 5 | C9: NŚT Drukarka HP Color LaserJet Pro 400 M476dw | D9: 808 | E9: 1450.41 | F9: 42138
B10: 6 | C10: NŚT Telewizor LG LED 49LF631V FHD | D10: 808 | E10: 1871.11 | F10: 42586
B11: 7 | C11: NŚT Telewizor LG LED 49LF631V FHD | D11: 808 | E11: 1871.12 | F11: 42586
B12: 8 | C12: NŚT Drukarka HP Color LaserJet Pro 400 M476dw | D12: 808 | E12: 1397.56 | F12: 42242
B13: 9 | C13: NŚT Urz. weilof. HP Color LaserJet Pro M476DN | D13: 808 | E13: 1540.8 | F13: 42530
B14: 10 | C14: NŚT ThingPad Lenovo J.Gałązka | D14: 808 | E14: 503.25 | F14: 41841
B15: 11 | C15: NŚT Monitor 21,5"Philips - J.Gałązka | D15: 808 | E15: 397.56 | F15: 41841
B16: 12 | C16: NŚT Drukarka HP Color Laser Jet Pro 200 M276nw | D16: 808 | E16: 1178.05 | F16: 42002
... B36: 32 | C36: NŚT zestaw komputerowy do punktu wagowego | D36: 808 | E36: 2106.77 | F36: 43088
E37: =SUM(E5:E36) -> 251384.25
B39: LP | C39: Nazwa - monitoring wizyjny | D39: Nr KŚT | E39: =E4 -> Wartość księgowa BRUTTO środka trwałego na dzień 30.09.2018 | F39: Data przyjęcia
B40: 1 | C40: System monitorujący FS (monitoring wizyjny) | D40: 624 | E40: =209830.19+11238.04 -> 221068.23 | F40: 43007
B41: 2 | C41: System sygnalizacji pożarowej SSP FS (monitoring wizyjny) | D41: 663 | E41: 111387.68 | F41: 43007
E42: =SUM(E40:E41) -> 332455.91
B52: LP | C52: Nazwa - przenośny sprzęt elektroniczny | D52: Nr KŚT | E52: =E39 -> Wartość księgowa BRUTTO środka trwałego na dzień 30.09.2018 | F52: Data przyjęcia
B53: 1 | C53: Notebook Lenovo T540-p | D53: 491 | E53: 3982.93 | F53: 41717
B54: 2 | C54: Notebook HP ENVY | D54: 491 | E54: 4795.13 | F54: 43088
B55: 3 | C55: NŚT Laptop Panasonic CF-52-serwisowy P.Lempkowski | D55: 808 | E55: 2031.71 | F55: 41869
B56: 4 | C56: NŚT Notebook Toshiba Satellite Pro C70-B-351 | D56: 808 | E56: 3332.52 | F56: 42164
B57: 5 | C57: NŚT Notebook DELL Inspiron 3543 0908 Core i5 5200U | D57: 808 | E57: 2113.01 | F57: 42212
B58: 6 | C58: NŚT Telefon Samsung Galaxy Trend | D58: 808 | E58: 540.03 | F58: 41827
B59: 7 | C59: NŚT Notebook Lenowo - J.Gałązka | D59: 808 | E59: 3007.32 | F59: 41841
B60: 8 | C60: NŚT Notebook DELL Inspirion | D60: 808 | E60: 2113.01 | F60: 42194
B61: 9 | C61: NŚT Notebook DELL Inspirion 3543 | D61: 808 | E61: 2113.01 | F61: 42178
B62: 10 | C62: NŚT Samsung Galaxy Trend Olus | D62: 808 | E62: 446.34 | F62: 42017
B63: 11 | C63: NŚT Notebook DELL Inspiron 3543 0908 Core i5 5200U | D63: 808 | E63: 2113.01 | F63: 42212
B64: 12 | C64: NŚT Apple iPhone 5S 16GB grafitowy | D64: 808 | E64: 1279 | F64: 42579
... B79: 27 | C79: Telefon Apple iPhone 7 | D79: 629 | E79: 4052.19 | F79: 43007
E80: =SUM(E53:E79) -> 61261.54
