Workbook

Sheet Sumy_na 31.10.2020
A2: Mienie od wszystkich ryzyk | B2: wartość ksiegowa brutto | C2: Suma ubezpieczenia
A3: budynki i budowle | B3: ='budynki i budowle'!D43 -> 61466677 | C3: =B3 -> 61466677
A4: maszyny i urządzenia, wyposażenie i środki transportu (*) | B4: 32031903 | C4: 32031903
A5: gotówka | B5: 10000 | C5: 20000
A6: nakłady inwestycyjne | C6: 10000
A7: mienie osób trzecich | C7: 200000
A8: niskocenne składniki majątku | B8: =niskocenne!D26 -> 480113.07 | C8: =B8 -> 480113.07
A9: mienie pracownicze | C9: 60000
A10: środki obrotowe | B10: 100000 | C10: =B10 -> 100000
B11: =SUM(B3:B10) -> 94088694 | C11: =SUM(C3:C10) -> 94368694
A13: Sprzęt elektroniczny od wszystkich ryzyk | B13: wartość ksiegowa brutto | C13: =C2 -> Suma ubezpieczenia
A14: elektroniczny sprzęt stacjonarny | B14: =elektroniczny!D23 -> 209113.49 | C14: =B14 -> 209113.49
A15: przenośny sprzęt elektroniczny | B15: =elektroniczny!D44 -> 26819.96 | C15: =B15 -> 26819.96
A16: monitoring wizyjny | B16: =elektroniczny!D29 -> 358455.91 | C16: =B16 -> 358455.91
A17: koszty odtworzenia danych | C17: 30000
A18: nośniki danych | C18: 10000
A19: zwiększone koszty działalności [klauzura] | C19: 20000
B20: =SUM(B14:B19) -> 594389.36 | C20: =SUM(C14:C19) -> 654389.36
A22: Limity dla ryzyka kradzieży | B22: wartość ksiegowa brutto | C22: =C2 -> Suma ubezpieczenia
A23: maszyny, urządzenia, wyposażenie | C23: 1000000
A24: środki obrotowe | C24: 30000
A25: mienie pracownicze | C25: 10000
A26: gotówka od kradzieży z włamaniem | C26: 20000
A27: gotówka od rabunku w lokalu | C27: 20000
A28: gotówka od rabunku w transporcie | C28: 20000
A29: kradzież zwykła | C29: 10000
A30: naprawa zabezpieczeń | C30: 5000
B31: =SUM(B23:B30) -> 0 | C31: =SUM(C23:C30) -> 1115000
A33: Ubezpieczenie maszyn od uszkodzeń | B33: wartość ksiegowa brutto | C33: =C2 -> Suma ubezpieczenia
A34: linia technologiczna sortowni odpadów + separatory | B34: ='maszyny i urzadzenia'!D6 -> 13422474 | C34: =B34 -> 13422474
B35: =SUM(B34:B34) -> 13422474 | C35: =SUM(C34:C34) -> 13422474

Sheet budynki i budowle
A1: BUDYNKI I BUDOWLE
A2: LP | B2: Nazwa - budynki i budowle | C2: Nr KŚT | D2: Wartość księgowa BRUTTO środka trwałego na dzień 31.10.2020 | E2: Data przyjęcia
A3: 1 | B3: Hala sortowni obiekt 4 FS | C3: 101 | D3: 5948491.6 | E3: 41091
A4: 2 | B4: Magazyn odpadów niebezpiecznych - 12 FS | C4: 101 | D4: 316844.22 | E4: 41091
A5: 3 | B5: Warsztat rozbiórki - obiekt 20a FS | C5: 101 | D5: 544341.24 | E5: 41091
A6: 4 | B6: Hala garażowa z warsztatem FS | C6: 101 | D6: 897913.91 | E6: 41091
A7: 5 | B7: Budynek administarcyjny FS | C7: 105 | D7: 1058083.9 | E7: 41091
A8: 6 | B8: Budynek socjalny - obiekt 4a FS | C8: 109 | D8: =724394.3+772593.85+11217.3 -> 1508205.4 | E8: 41091
A9: 7 | B9: Budynek socjalny dla prac. fizycznych obiekt 13 FS | C9: 109 | D9: 593450.27 | E9: 41091
A10: 8 | B10: Portiernia - obiekt 1 FS | C10: 109 | D10: 218208.67 | E10: 41091
A11: 9 | B11: Wiaty dojrzewania i magazynowania kompostu FS | C11: 101 | D11: 9089827.2 | E11: 41091
A12: 10 | B12: Wiata przyjęcia odpadów organicznych - obiekt 5 FS | C12: 101 | D12: 2169688.5 | E12: 41091
A13: 11 | B13: Wiata na odpady z azbestu - obiekt 11 FS | C13: 101 | D13: 620496.48 | E13: 41091
A14: 12 | B14: Wiata - obiekt 20 d FS | C14: 101 | D14: 205372.83 | E14: 41091
A15: 13 | B15: Pompownia koncentratun - obiekt 18a FS | C15: 210 | D15: 290643.03 | E15: 41091
A16: 14 | B16: Pompownia poboru ścieków - obiekt 23 FS | C16: 210 | D16: 80704.8 | E16: 41091
A17: 15 | B17: Zasilanie energetyczne linią napowietrzną FS | C17: 211 | D17: 222275.7 | E17: 41091
A18: 16 | B18: Sieć energetyczna FS | C18: 211 | D18: =727522.94+401662.23 -> 1129185.2 | E18: 41091
A19: 17 | B19: Sieć teletechniczna FS | C19: 211 | D19: 107805.95 | E19: 41091
A20: 18 | B20: Oczyszcz. Zakład. w techn. odw. osmozy-obiekt 18FS | C20: 211 | D20: =1886630.19+281163.57 -> 2167793.8 | E20: 41091
A21: 19 | B21: Sieć biogaz | C21: 211 | D21: 293520.86 | E21: 43672
A22: 20 | B22: Boksy dla sortowni - obiekt 10/1 FS | C22: 291 | D22: 555806.24 | E22: 41091
A23: 21 | B23: Boksy dla sortowni - obiekt 10/2 FS | C23: 291 | D23: 181884.63 | E23: 41091
A24: 22 | B24: Kwat. na odpady do mineraliz. nr I wraz z rowem FS | C24: 291 | D24: =8213434.72+24000 -> 8237434.7 | E24: 41091
A25: 23 | B25: Kwatera na odpady do mineral. II - balastu FS | C25: 291 | D25: 7142657.7 | E25: 41091
A26: 24 | B26: Studnie odgazowujące FS | C26: 291 | D26: 294242.68 | E26: 41091
A27: 25 | B27: Przepompownia wód odciekowych - obiekt 28 FS | C27: 291 | D27: 63711.04 | E27: 41091
A28: 26 | B28: Ogrodzenie terenu zakładu FS | C28: 291 | D28: 622522.53 | E28: 41091
A29: 27 | B29: Kontener socjalny - obiekt 20 c FS | C29: 291 | D29: 19856.88 | E29: 41091
A30: 28 | B30: Zbiornik buforowy wód odciekowych - obiekt 17 FS | C30: 291 | D30: 119853.01 | E30: 41091
A31: 29 | B31: Zbiornik wód deszczowych FS | C31: 291 | D31: 195824.79 | E31: 41091
A32: 30 | B32: Zbiornik magazyn wód oczyszczonych - obiekt 19 FS | C32: 291 | D32: =182076.74+98430.18+32132.98 -> 312639.9 | E32: 41091
A33: 31 | B33: Instalacja biologicznego przetwarzania odpadów FS | C33: 291 | D33: 7572978.6 | E33: 42338
A34: 32 | B34: Plac magazynowo-manewrowy przy instal stabiliz. FS | C34: 220 | D34: 369790.68 | E34: 42338
A35: 33 | B35: Boks magazynowy FS | C35: 291 | D35: 107358.58 | E35: 42338
A36: 34 | B36: Oczyszczalnia ścieków min 120m3/d FS | C36: 211 | D36: 5448556.5 | E36: 42338
A37: 35 | B37: Zbiornik na ścieki surowe 1000m3 FS | C37: 291 | D37: 768896.28 | E37: 42338
A38: 36 | B38: Zbiornik na ścieki oczyszczone FS | C38: 291 | D38: 401662.23 | E38: 42338
A39: 37 | B39: Zbiornik i studnie chłonne dla ścieków deszczow.FS | C39: 291 | D39: 805459.03 | E39: 42338
A40: 38 | B40: Sieć Biogaz | C40: 211 | D40: 239463.71 | E40: 43672
...

Sheet maszyny i urzadzenia
A1: MASZYNY I URZĄDZENIA
A2: LP | B2: Nazwa - maszyny i urządzenia | C2: Nr KŚT | D2: ='budynki i budowle'!D2 -> Wartość księgowa BRUTTO środka trwałego na dzień 31.10.2020 | E2: Data przyjęcia
A3: 1 | B3: Kocioł grzewczy w obiekcie nr 13 FS | C3: 310 | D3: 249652.66 | E3: 41091
A4: 2 | B4: Stacja paliw FS | C4: 449 | D4: =222826.33+15778.86 -> 238605.19 | E4: 41091
A5: 3 | B5: Kontener stacji sprężarek wraz z wyposażeniem FS | C5: 599 | D5: 1009655.8 | E5: 41091
A6: 4 | B6: Sortownia urządzenie FS (linia technologiczna sortowni odpadów + separatory) | C6: 599 | D6: =7318594.35+5865305.42+238574.64 -> 13422474 | E6: 41091
A7: 5 | B7: Linia produkcji paliwa alternatywnego FS | C7: 599 | D7: 987931.36 | E7: 41091
A8: 6 | B8: Kruszarka do gruzu FS | C8: 529 | D8: 708435.04 | E8: 41088
A9: 7 | B9: Ładowarka teleskopowa MANITOU 95 FS | C9: 580 | D9: 402383 | E9: 41051
A10: 8 | B10: Ładowarka teleskopowa MANITOU 96 FS | C10: 580 | D10: 441830.13 | E10: 41051
A11: 9 | B11: Ładowarka czołowa HITACHI 11 FS | C11: 580 | D11: 721053.09 | E11: 41051
A12: 10 | B12: Ładowarka czołowa HITACHI 18 FS | C12: 580 | D12: 721053.09 | E12: 41051
A13: 11 | B13: Kompaktor FS | C13: 599 | D13: 1355908.7 | E13: 41395
A14: 12 | B14: Przerzucarka bramowa do kompostu FS | C14: 599 | D14: 912148.12 | E14: 41080
A15: 13 | B15: Mobilne sito obrotowe FS | C15: 599 | D15: 724651.01 | E15: 41089
A16: 14 | B16: Spycharka gąsienicowa FS | C16: 580 | D16: 881135.09 | E16: 41128
A17: 15 | B17: Koparko - ładowarka FS | C17: 580 | D17: 280980.58 | E17: 41141
A18: 16 | B18: Ładowarka teleskopowa Libherr FS | C18: 580 | D18: 545577.62 | E18: 42109
A19: 17 | B19: Ładowarka kołowa Liebherr FS | C19: 580 | D19: 271016.2 | E19: 42109
A20: 18 | B20: Stacja transformatorawa - obiekt 26 FS | C20: 613 | D20: =703738.97+91965.79 -> 795704.76 | E20: 41091
A21: 19 | B21: Waga samochodowa - obiekt 2 a FS | C21: 660 | D21: 162488.11 | E21: 41091
A22: 20 | B22: Waga samochodowa - obiekt 2 b FS | C22: 660 | D22: 162428.03 | E22: 41091
A23: 21 | B23: Myjnia kół samochodowych - obiekt 3 FS | C23: 669 | D23: 369766.11 | E23: 41091
A24: 22 | B24: Rozdrabniacz wielkogabarytów FS | C24: 659 | D24: 961809.52 | E24: 41093
A25: 23 | B25: Pompa powodziowa | C25: 669 | D25: 62365 | E25: 41334
A26: 24 | B26: Pompownia ppoż. | C26: 663 | D26: 309211.22 | E26: 41668
A27: 25 | B27: Zwijarki z membranami do instalacji biologicz FS | C27: 669 | D27: 814188.55 | E27: 42338
A28: 26 | B28: Podnośnik nożycowy GENIE | C28: 641 | D28: 32506.41 | E28: 42703
A29: 27 | B29: Instalacja przeciwpożarowa w hali sortowni | C29: 663 | D29: 101500 | E29: 43098
A30: 28 | B30: Separator metali nieżelaznych - RPO | C30: 492 | D30: 657983.76 | E30: 43830
A31: 29 | B31: Ładowarka teleskopowa MANITOU MLT 845 - RPO | C31: 580 | D31: 407488.15 | E31: 43830
A32: 30 | B32: Ładowarka teleskopowa MANITOU | C32: 580 | D32: 388000 | E32: 44043
A33: 31 | B33: Rozrywarka do worków - RPO | C33: 659 | D33: 801928.65 | E33: 43861
D35: =SUM(D3:D33) -> 29901859

Sheet srodki transportu
A1: ŚRODKI TRANSPORTU
A2: LP | B2: Nazwa - środki transportu | C2: Nr KŚT | D2: ='budynki i budowle'!D2 -> Wartość księgowa BRUTTO środka trwałego na dzień 31.10.2020 | E2: Data przyjęcia
A3: 1 | B3: Samochód hakowiec MAN 8x6 GST 13072 FS | C3: 742 | D3: 596728.42 | E3: 41051
A4: 2 | B4: Samochód hakowiec MAN 6X4 GST 13074 FS | C4: 742 | D4: 477845.12 | E4: 41051
A5: 3 | B5: Ciągnik rolniczy GST 28CN z oprzyrządowaniem FS | C5: 746 | D5: 340130.23 | E5: 41131
A6: 4 | B6: Przyczepa gniotpol GST 12NU FS | C6: 748 | D6: 81225.17 | E6: 41051
A7: 5 | B7: Wózek widłowy HYSTER J2.0XNT elektryczny FS | C7: 762 | D7: 243970.23 | E7: 41051
A8: 6 | B8: Wózek widłowy HYSTER H2.OFT spalinowy FS | C8: 763 | D8: =124855.85+4764.54+22354.34 -> 151974.73 | E8: 41051
A9: 7 | B9: Kosiarka z oprzyrządowaniem | C9: 746 | D9: 10417.62 | E9: 41129
A10: 8 | B10: Przyczepa asenizacyjna itp. FS | C10: 748 | D10: 45607.41 | E10: 41131
A11: 9 | B11: Przyczepa samowyładowcza FS | C11: 748 | D11: 49919.89 | E11: 41131
A12: 10 | B12: Wózek widłowy Hyster H2.0FT FS | C12: 763 | D12: 126558.25 | E12: 42109
A13: 11 | B13: Przyczepa samochodowa euro C750 | C13: 747 | D13: 5666.96 | E13: 43598
D14: =SUM(D3:D13) -> 2130044

Sheet niskocenne
A1: NISKOCENNE
A2: LP | B2: Nazwa - niskocenne | C2: Nr KŚT | D2: ='budynki i budowle'!D2 -> Wartość księgowa BRUTTO środka trwałego na dzień 31.10.2020 | E2: Data przyjęcia
A3: 1 | B3: Spektrofotometr FS | C3: 801 | D3: 21615.17 | E3: 42338
A4: 2 | B4: Mineralizator (termoreaktor) FS | C4: 801 | D4: 5695.57 | E4: 42338
A5: 3 | B5: Wagosuszarka FS | C5: 801 | D5: 3896.13 | E5: 42338
A6: 4 | B6: Młyn nożowy FS | C6: 801 | D6: 28902.46 | E6: 42338
A7: 5 | B7: Zestaw do oznaczania AT4 FS | C7: 801 | D7: 30816.67 | E7: 42338
A8: 6 | B8: Zestaw do sączenia FS | C8: 801 | D8: 6453 | E8: 42338
A9: 7 | B9: Chłodziarka laboratoryjna FS | C9: 801 | D9: 7298.78 | E9: 42338
A10: 8 | B10: Suszarka laboratoryjna FS | C10: 801 | D10: 7255.16 | E10: 42338
A11: 9 | B11: Wieloparametrowy miernik PH przetwornoci i tlenuFS | C11: 801 | D11: 10155.17 | E11: 42338
A12: 10 | B12: Wieloparametrowy miernik biogazu FS | C12: 801 | D12: 51535.56 | E12: 42338
A13: 11 | B13: Stół laboratoryjny FS | C13: 801 | D13: 6464.85 | E13: 42338
A14: 12 | B14: Stół laboratyryjny FS | C14: 801 | D14: 6464.85 | E14: 42338
... A25: 23 | B25: Szlabany automatyczne | C25: 808 | D25: 13290.41 | E25: 42734
D26: =SUM(D3:D25) -> 480113.07

Sheet elektroniczny
A1: SPRZĘT ELEKTRONICZNY
A2: LP | B2: Nazwa - stacjonarny sprzęt elektroniczny | C2: Nr KŚT | D2: ='budynki i budowle'!D2 -> Wartość księgowa BRUTTO środka trwałego na dzień 31.10.2020 | E2: Data przyjęcia
A3: 1 | B3: Sieć LAN | C3: 211 | D3: 139307.18 | E3: 41091
A4: 2 | B4: System kontroli dostępu RCP | C4: 491 | D4: 7413.32 | E4: 43007
A5: 3 | B5: Klimatyzator ścienny - administracja, pokój nr 4 | C5: 652 | D5: 3602.2 | E5: 42886
A6: 4 | B6: Klimatyzator ścienny - administracja, pokój nr 5 | C6: 652 | D6: 3602.2 | E6: 42886
A7: 5 | B7: Klimatyzator ścienny - administracja, pokój nr 6 | C7: 652 | D7: 3602.2 | E7: 42886
A8: 6 | B8: Klimatyzator ścienny - administracja, pokój nr 7 | C8: 652 | D8: 3602.2 | E8: 42886
A9: 7 | B9: Klimatyzator ścienny - administracja, pokój nr 8 | C9: 652 | D9: 3602.2 | E9: 42886
A10: 8 | B10: Klimatyzator ścienny - administracja, pokój nr 9 | C10: 652 | D10: 3602.2 | E10: 42886
A11: 9 | B11: Klimatyzator ścienny - administracja, pokój nr 10 | C11: 652 | D11: 3602.2 | E11: 42886
A12: 10 | B12: Klimatyzator ścienny - administracja, pokój nr 11 | C12: 652 | D12: 3746.16 | E12: 42886
A13: 11 | B13: Klimatyzator ścienny - administracja, pokój nr 12 | C13: 652 | D13: 3602.2 | E13: 42886
A14: 12 | B14: Klimatyzator ścienny - administracja, serwerownia | C14: 652 | D14: 4375.73 | E14: 42886
... A22: 20 | B22: NŚT zestaw komputerowy do punktu wagowego | C22: 808 | D22: 2106.77 | E22: 43088
D23: =SUM(D3:D22) -> 209113.49
A26: LP | B26: Nazwa - monitoring wizyjny | C26: Nr KŚT | D26: =D2 -> Wartość księgowa BRUTTO środka trwałego na dzień 31.10.2020 | E26: Data przyjęcia
A27: 1 | B27: System monitorujący FS (monitoring wizyjny) | C27: 624 | D27: =209830.19+11238.04 -> 221068.23 | E27: 43007
A28: 2 | B28: System sygnalizacji pożarowej SSP FS (monitoring wizyjny) | C28: 663 | D28: 137387.68 | E28: 43007
D29: =SUM(D27:D28) -> 358455.91
A32: LP | B32: Nazwa - przenośny sprzęt elektroniczny | C32: Nr KŚT | D32: =D26 -> Wartość księgowa BRUTTO środka trwałego na dzień 31.10.2020 | E32: Data przyjęcia
A33: 1 | B33: Notebook HP ENVY | C33: 491 | D33: 4795.13 | E33: 43088
A34: 2 | B34: NŚT APPLE IPHONE SE 16GB GRAY | C34: 808 | D34: 1300 | E34: 42866
A35: 3 | B35: NŚT Notebook DELL Vostro 3568 | C35: 808 | D35: 3494.31 | E35: 42919
A36: 4 | B36: NŚT Notebook DELL Vostro 3568 | C36: 808 | D36: 2641.46 | E36: 42919
A37: 5 | B37: NŚT Smartfon Samsung Galaxy A5 | C37: 808 | D37: 1313 | E37: 42957
A38: 6 | B38: NŚT Samsung Galaxy Xcover 4 Czarny | C38: 808 | D38: 1241.78 | E38: 43005
A39: 7 | B39: NŚT Samsung Galaxy Xcover 4 Czarny | C39: 808 | D39: 1241.78 | E39: 43005
A40: 8 | B40: NŚT Samsung Galaxy Xcover 4 Czarny | C40: 808 | D40: 1241.78 | E40: 43005
A41: 9 | B41: NŚT Smartfon Xiaomi Mi9 6/64GB Black GAM | C41: 808 | D41: 1446.34 | E41: 43719
A42: 10 | B42: Telefon Samsung Galaxy S8 Plus | C42: 629 | D42: 4052.19 | E42: 43007
A43: 11 | B43: Telefon Apple iPhone 7 | C43: 629 | D43: 4052.19 | E43: 43007
D44: =SUM(D33:D43) -> 26819.96
