Workbook

Sheet Sumy_na 31.10.2022
A2: Mienie od wszystkich ryzyk | B2: wartość ksiegowa brutto | C2: Suma ubezpieczenia
A3: budynki i budowle | B3: ='budynki i budowle'!D41 -> 52981328 | C3: =B3 -> 52981328
A4: maszyny i urządzenia, wyposażenie i środki transportu (*) | B4: ='maszyny i urzadzenia'!D22+'srodki transportu'!D23 -> 31497985 | C4: =B4 -> 31497985
A5: gotówka | B5: 10000 | C5: 20000
A6: nakłady inwestycyjne | C6: 10000
A7: mienie osób trzecich | C7: 200000
A8: niskocenne składniki majątku | B8: =niskocenne!D13 -> 279715.99 | C8: =B8 -> 279715.99
A9: mienie pracownicze | C9: 60000
A10: środki obrotowe - (głównie paliwa) | B10: 100000 | C10: =B10 -> 100000
B11: =SUM(B3:B10) -> 84869029 | C11: =SUM(C3:C10) -> 85149029
A13: Sprzęt elektroniczny od wszystkich ryzyk | B13: wartość ksiegowa brutto | C13: =C2 -> Suma ubezpieczenia
A14: elektroniczny sprzęt stacjonarny | B14: =elektroniczny!D20 -> 86176.63 | C14: =B14 -> 86176.63
A15: przenośny sprzęt elektroniczny | B15: =elektroniczny!D44 -> 56427.55 | C15: =B15 -> 56427.55
A16: monitoring wizyjny | B16: =elektroniczny!D26 -> 358455.91 | C16: =B16 -> 358455.91
A17: koszty odtworzenia danych | C17: 30000
A18: nośniki danych | C18: 10000
A19: zwiększone koszty działalności [klauzura] | C19: 20000
B20: =SUM(B14:B19) -> 501060.09 | C20: =SUM(C14:C19) -> 561060.09
A22: Limity dla ryzyka kradzieży | B22: wartość ksiegowa brutto | C22: =C2 -> Suma ubezpieczenia
A23: maszyny, urządzenia, wyposażenie | C23: 500000
A24: środki obrotowe | C24: 30000
A25: mienie pracownicze | C25: 10000
A26: gotówka od kradzieży z włamaniem | C26: 20000
A27: gotówka od rabunku w lokalu | C27: 20000
A28: gotówka od rabunku w transporcie | C28: 20000
A29: kradzież zwykła | C29: 10000
A30: naprawa zabezpieczeń | C30: 5000
B31: =SUM(B23:B30) -> 0 | C31: =SUM(C23:C30) -> 615000

Sheet Arkusz1

Sheet budynki i budowle
A1: BUDYNKI I BUDOWLE
A2: LP | B2: Nazwa - budynki i budowle | C2: Nr KŚT | D2: Wartość księgowa BRUTTO środka trwałego na dzień 31.10.2022 | E2: Data przyjęcia
A3: 1 | B3: Hala sortowni obiekt 4 FS | C3: 101 | D3: 5948491.6 | E3: 41091
A4: 2 | B4: Magazyn odpadów niebezpiecznych - 12 FS | C4: 101 | D4: 316844.22 | E4: 41091
A5: 3 | B5: Warsztat rozbiórki - obiekt 20a FS | C5: 101 | D5: 544341.24 | E5: 41091
A6: 4 | B6: Hala garażowa z warsztatem FS | C6: 101 | D6: 897913.91 | E6: 41091
A7: 5 | B7: Budynek administarcyjny FS | C7: 105 | D7: 1058083.9 | E7: 41091
A8: 6 | B8: Budynek socjalny - obiekt 4a FS | C8: 109 | D8: =724394.3+772593.85+11217.3 -> 1508205.4 | E8: 41091
A9: 7 | B9: Budynek socjalny dla prac. fizycznych obiekt 13 FS | C9: 109 | D9: 593450.27 | E9: 41091
A10: 8 | B10: Portiernia - obiekt 1 FS | C10: 109 | D10: 218208.67 | E10: 41091
A11: 9 | B11: Wiaty dojrzewania i magazynowania kompostu FS | C11: 101 | D11: 9089827.2 | E11: 41091
A12: 10 | B12: Wiata przyjęcia odpadów organicznych - obiekt 5 FS | C12: 101 | D12: 2169688.5 | E12: 41091
A13: 11 | B13: Wiata na odpady z azbestu - obiekt 11 FS | C13: 101 | D13: 620496.48 | E13: 41091
A14: 12 | B14: Wiata - obiekt 20 d FS | C14: 101 | D14: 205372.83 | E14: 41091
A15: 13 | B15: Pompownia koncentratun - obiekt 18a FS | C15: 210 | D15: 290643.03 | E15: 41091
A16: 14 | B16: Pompownia poboru ścieków - obiekt 23 FS | C16: 210 | D16: 80704.8 | E16: 41091
A17: 15 | B17: Zasilanie energetyczne linią napowietrzną FS | C17: 211 | D17: 222275.7 | E17: 41091
A18: 16 | B18: Sieć energetyczna FS | C18: 211 | D18: =727522.94+401662.23 -> 1129185.2 | E18: 41091
A19: 17 | B19: Sieć teletechniczna FS | C19: 211 | D19: 107805.95 | E19: 41091
A20: 18 | B20: Oczyszcz. Zakład. w techn. odw. osmozy-obiekt 18FS | C20: 211 | D20: =1886630.19+281163.57 -> 2167793.8 | E20: 41091
A21: 19 | B21: Sieć biogaz | C21: 211 | D21: 293520.86 | E21: 43672
A22: 20 | B22: Boksy dla sortowni - obiekt 10/1 FS | C22: 291 | D22: 555806.24 | E22: 41091
A23: 21 | B23: Boksy dla sortowni - obiekt 10/2 FS | C23: 291 | D23: 181884.63 | E23: 41091
A24: 22 | B24: Kwatera na odpady do mineraliz. nr I wraz z rowem FS | C24: 291 | D24: =8213434.72+24000 -> 8237434.7 | E24: 41091
A25: 23 | B25: Kwatera na odpady do mineral. II - balastu FS | C25: 291 | D25: 7142657.7 | E25: 41091
A26: 24 | B26: Studnie odgazowujące FS | C26: 291 | D26: 294242.68 | E26: 41091
A27: 25 | B27: Przepompownia wód odciekowych - obiekt 28 FS | C27: 291 | D27: 63711.04 | E27: 41091
A28: 26 | B28: Ogrodzenie terenu zakładu FS | C28: 291 | D28: 622522.53 | E28: 41091
A29: 27 | B29: Kontener socjalny - obiekt 20 c FS | C29: 291 | D29: 19856.88 | E29: 41091
A30: 28 | B30: Zbiornik buforowy wód odciekowych - obiekt 17 FS | C30: 291 | D30: 119853.01 | E30: 41091
A31: 29 | B31: Zbiornik wód deszczowych FS | C31: 291 | D31: 195824.79 | E31: 41091
A32: 30 | B32: Zbiornik magazyn wód oczyszczonych - obiekt 19 FS | C32: 291 | D32: =182076.74+98430.18+32132.98 -> 312639.9 | E32: 41091
A33: 31 | B33: Boks magazynowy FS | C33: 291 | D33: 107358.58 | E33: 42338
A34: 32 | B34: Oczyszczalnia ścieków min 120m3/d FS | C34: 211 | D34: 5448556.5 | E34: 42338
A35: 33 | B35: Zbiornik na ścieki oczyszczone FS | C35: 291 | D35: 401662.23 | E35: 42338
A36: 34 | B36: Zbiornik i studnie chłonne dla ścieków deszczow.FS | C36: 291 | D36: 805459.03 | E36: 42338
A37: 35 | B37: Sieć Biogaz | C37: 211 | D37: 239463.71 | E37: 43672
A38: 36 | B38: Boksy magazynowe - RPO | C38: 291 | D38: 543224.1 | E38: 44104
A39: 37 | B39: Sieć LAN | C39: 211 | D39: 139307.18 | E39: 41091
A40: 38 | B40: Sektor wytwarzania i magazynowania kompostu | C40: 291 | D40: 87009.54 | E40: 44255
D41: =SUM(D3:D40) -> 52981328

Sheet maszyny i urzadzenia
A1: MASZYNY I URZĄDZENIA
A2: LP | B2: Nazwa - maszyny i urządzenia | C2: Nr KŚT | D2: ='budynki i budowle'!D2 -> Wartość księgowa BRUTTO środka trwałego na dzień 31.10.2022 | E2: Data przyjęcia
A3: 1 | B3: Kocioł grzewczy w obiekcie nr 13 FS | C3: 310 | D3: 249652.66 | E3: 41091
A4: 2 | B4: Stacja paliw FS | C4: 449 | D4: =222826.33+15778.86 -> 238605.19 | E4: 41091
A5: 3 | B5: Kontener stacji sprężarek wraz z wyposażeniem FS | C5: 599 | D5: 1009655.8 | E5: 41091
A6: 4 | B6: Sortownia urządzenie FS (linia technologiczna sortowni odpadów + separatory) | C6: 599 | D6: =7318594.35+5865305.42+238574.64 -> 13422474 | E6: 41091
A7: 5 | B7: Kruszarka do gruzu FS | C7: 529 | D7: 708435.04 | E7: 41088
A8: 6 | B8: Przerzucarka bramowa do kompostu FS | C8: 599 | D8: 912148.12 | E8: 41080
A9: 7 | B9: Mobilne sito obrotowe FS | C9: 599 | D9: 724651.01 | E9: 41089
A10: 8 | B10: Stacja transformatorawa - obiekt 26 FS | C10: 613 | D10: =703738.97+91965.79 -> 795704.76 | E10: 41091
A11: 9 | B11: Waga samochodowa - obiekt 2 a FS | C11: 660 | D11: 162488.11 | E11: 41091
A12: 10 | B12: Waga samochodowa - obiekt 2 b FS | C12: 660 | D12: 162428.03 | E12: 41091
A13: 11 | B13: Myjnia kół samochodowych - obiekt 3 FS | C13: 669 | D13: 369766.11 | E13: 41091
A14: 12 | B14: Rozdrabniacz wielkogabarytów FS | C14: 659 | D14: 961809.52 | E14: 41093
A15: 13 | B15: Pompa powodziowa | C15: 669 | D15: 62365 | E15: 41334
A16: 14 | B16: Pompownia ppoż. | C16: 663 | D16: 309211.22 | E16: 41668
A17: 15 | B17: Instalacja przeciwpożarowa w hali sortowni | C17: 663 | D17: 101500 | E17: 43098
A18: 16 | B18: Separator metali nieżelaznych - RPO | C18: 492 | D18: 657983.76 | E18: 43830
A19: 17 | B19: Rozrywarka do worków - RPO | C19: 659 | D19: 801928.65 | E19: 43861
A20: 18 | B20: Multistar Przesiewacz gwiaździsty-KOM | C20: 599 | D20: 937000 | E20: 44347
A21: 19 | B21: Crambo (Mobilny Rozdrabniacz) - KOM | C21: 659 | D21: 1487000 | E21: 44347
D22: =SUM(D3:D21) -> 24074807

Sheet srodki transportu
A1: ŚRODKI TRANSPORTU
A2: LP | B2: Nazwa - środki transportu | C2: Nr KŚT | D2: ='budynki i budowle'!D2 -> Wartość księgowa BRUTTO środka trwałego na dzień 31.10.2022 | E2: Data przyjęcia
A3: 1 | B3: Ciągnik rolniczy GST 28CN z oprzyrządowaniem FS | C3: 746 | D3: 340130.23 | E3: 41131
A4: 2 | B4: Wózek widłowy HYSTER J2.0XNT elektryczny FS | C4: 762 | D4: 243970.23 | E4: 41051
A5: 3 | B5: Wózek widłowy HYSTER H2.OFT spalinowy FS | C5: 763 | D5: =124855.85+4764.54+22354.34 -> 151974.73 | E5: 41051
A6: 4 | B6: Kosiarka z oprzyrządowaniem | C6: 746 | D6: 10417.62 | E6: 41129
A7: 5 | B7: Przyczepa asenizacyjna itp. FS | C7: 748 | D7: 45607.41 | E7: 41131
A8: 6 | B8: Przyczepa samowyładowcza FS | C8: 748 | D8: 49919.89 | E8: 41131
A9: 7 | B9: Wózek widłowy Hyster H2.0FT FS | C9: 763 | D9: 126558.25 | E9: 42109
A10: 8 | B10: Przyczepa samochodowa euro C750 | C10: 747 | D10: 5666.96 | E10: 43598
A11: 9 | B11: Ładowarka teleskopowa MANITOU 95 FS | C11: 580 | D11: 402383 | E11: 41051
A12: 10 | B12: Ładowarka teleskopowa MANITOU 96 FS | C12: 580 | D12: 441830.13 | E12: 41051
A13: 11 | B13: Ładowarka czołowa HITACHI 11 FS | C13: 580 | D13: 721053.09 | E13: 41051
A14: 12 | B14: Ładowarka czołowa HITACHI 18 FS | C14: 580 | D14: 721053.09 | E14: 41051
A15: 13 | B15: Kompaktor FS | C15: 599 | D15: 1355908.7 | E15: 41395
A16: 14 | B16: Spycharka gąsienicowa FS | C16: 580 | D16: 881135.09 | E16: 41128
A17: 15 | B17: Koparko - ładowarka FS | C17: 580 | D17: 280980.58 | E17: 41141
... A22: 20 | B22: Ładowarka teleskopowa MANITOU | C22: 580 | D22: 388000 | E22: 44043
D23: =SUM(D3:D22) -> 7423177.4

Sheet niskocenne
A1: NISKOCENNE
A2: LP | B2: Nazwa - niskocenne | C2: Nr KŚT | D2: ='budynki i budowle'!D2 -> Wartość księgowa BRUTTO środka trwałego na dzień 31.10.2022 | E2: Data przyjęcia
A3: 1 | B3: Kontenery archiwum | C3: 806 | D3: 34119.56 | E3: 42734
A4: 2 | B4: Kontener socjalny_ochrona | C4: 806 | D4: 30133.43 | E4: 42734
A5: 3 | B5: Garaż blaszany | C5: 806 | D5: 5602.95 | E5: 42734
A6: 4 | B6: NŚT Wiata dla pracowników | C6: 806 | D6: 1148.44 | E6: 42975
A7: 5 | B7: Kontenerowa stacja gazowa | C7: 806 | D7: 96011.39 | E7: 43672
A8: 6 | B8: Motopompa z osprzętem | C8: 808 | D8: 11220 | E8: 41088
A9: 7 | B9: Agregat prądotwórczy 4 fazowy P12000 | C9: 808 | D9: 26216 | E9: 41638
A10: 8 | B10: Agregat prądotwórczy | C10: 808 | D10: 57302.81 | E10: 42703
A11: 9 | B11: Szlabany automatyczne | C11: 808 | D11: 13290.41 | E11: 42734
A12: 10 | B12: Agregat prądotwórczy PX8000 SHHPI PRAXIO (5 kVA) | C12: 808 | D12: 4671 | E12: 44642
D13: =SUM(D3:D12) -> 279715.99

Sheet elektroniczny
A1: SPRZĘT ELEKTRONICZNY
A2: LP | B2: Nazwa - stacjonarny sprzęt elektroniczny | C2: Nr KŚT | D2: ='budynki i budowle'!D2 -> Wartość księgowa BRUTTO środka trwałego na dzień 31.10.2022 | E2: Data przyjęcia
A3: 1 | B3: System kontroli dostępu RCP | C3: 491 | D3: 7413.32 | E3: 43007
A4: 2 | B4: Klimatyzator ścienny - administracja, pokój nr 4 | C4: 652 | D4: 3602.2 | E4: 42886
A5: 3 | B5: Klimatyzator ścienny - administracja, pokój nr 5 | C5: 652 | D5: 3602.2 | E5: 42886
A6: 4 | B6: Klimatyzator ścienny - administracja, pokój nr 6 | C6: 652 | D6: 3602.2 | E6: 42886
A7: 5 | B7: Klimatyzator ścienny - administracja, pokój nr 7 | C7: 652 | D7: 3602.2 | E7: 42886
A8: 6 | B8: Klimatyzator ścienny - administracja, pokój nr 8 | C8: 652 | D8: 3602.2 | E8: 42886
A9: 7 | B9: Klimatyzator ścienny - administracja, pokój nr 9 | C9: 652 | D9: 3602.2 | E9: 42886
A10: 8 | B10: Klimatyzator ścienny - administracja, pokój nr 10 | C10: 652 | D10: 3602.2 | E10: 42886
A11: 9 | B11: Klimatyzator ścienny - administracja, pokój nr 11 | C11: 652 | D11: 3746.16 | E11: 42886
A12: 10 | B12: Klimatyzator ścienny - administracja, pokój nr 12 | C12: 652 | D12: 3602.2 | E12: 42886
A13: 11 | B13: Klimatyzator ścienny - administracja, serwerownia | C13: 652 | D13: 4375.73 | E13: 42886
A14: 12 | B14: Klimatyzator ścienny - warsztat, obiekt 13 | C14: 652 | D14: 3590 | E14: 42891
... A19: 17 | B19: Serwer komputerowy | C19: 491 | D19: 23513.82 | E19: 44196
D20: =SUM(D3:D19) -> 86176.63
A23: LP | B23: Nazwa - monitoring wizyjny | C23: Nr KŚT | D23: =D2 -> Wartość księgowa BRUTTO środka trwałego na dzień 31.10.2022 | E23: Data przyjęcia
A24: 1 | B24: System monitorujący FS (monitoring wizyjny) | C24: 624 | D24: =209830.19+11238.04 -> 221068.23 | E24: 43007
A25: 2 | B25: System sygnalizacji pożarowej SSP FS (monitoring wizyjny) | C25: 663 | D25: 137387.68 | E25: 43007
D26: =SUM(D24:D25) -> 358455.91
A29: LP | B29: Nazwa - przenośny sprzęt elektroniczny | C29: Nr KŚT | D29: =D23 -> Wartość księgowa BRUTTO środka trwałego na dzień 31.10.2022 | E29: Data przyjęcia
A30: 1 | B30: Laptop DELL Vostro 5490 | C30: 491 | D30: 3860.17 | E30: 44196
A31: 2 | B31: Laptop ASUS ROG Strix G | C31: 491 | D31: 3860.16 | E31: 44196
A32: 3 | B32: Laptop DELL Vostro 3401 | C32: 491 | D32: 3534.96 | E32: 44227
A33: 4 | B33: Laptop DELL Vostro 3500 | C33: 491 | D33: 3575.61 | E33: 44377
A34: 5 | B34: Laptop DELL Vostro 3500 | C34: 491 | D34: 3575.61 | E34: 44377
A35: 6 | B35: Laptop DELL Vostro 5510 | C35: 491 | D35: 4530.89 | E35: 44439
A36: 7 | B36: Laptop DELL Vostro 5510 | C36: 491 | D36: 1530.89 | E36: 44500
A37: 8 | B37: Laptop Dell Vostro 5510/ 16 GB RAM | C37: 491 | D37: 4490.24 | E37: 44561
A38: 9 | B38: Laptop Dell Vostro 5510 / 32 GB RAM | C38: 491 | D38: 4734.15 | E38: 44561
A39: 10 | B39: Laptop Dell Vostro 5510/ 16 GB RAM/512 GB | C39: 491 | D39: 4490.24 | E39: 44561
A40: 11 | B40: Laptop Dell Vostro 5510 / 32 GB RAM | C40: 491 | D40: 4795.12 | E40: 44592
A41: 12 | B41: Laptop HP ENVY 17 /32 GB/ | C41: 491 | D41: 4836.59 | E41: 44739
... A43: 14 | B43: Laptop MSI Katana GF66 11UE-491XPL | C43: 491 | D43: 4247.15 | E43: 44858
D44: =SUM(D30:D43) -> 56427.55
